BEGIN:VCALENDAR
VERSION:2.0
PRODID:EVENTFROG//EVENT//ICAL
BEGIN:VEVENT
UID:20260420T131606Z-7450888197612042169@eventfrog.de
DTSTAMP:20260420T131606Z
DTSTART:20260704T173000Z
DTEND:20260704T210000Z
SUMMARY:Schlagerparty auf dem Schiff
DESCRIPTION:Geniessen Sie eine schwungvolle Schlagerfahrt auf dem Bodensee\n\nhttps://eventfrog.de/de/p/partys/charts-open-format/schlagerparty-auf-dem-schiff-7450888197612042169.html
LOCATION:Hafen Romanshorn
GEO:47.564570;9.380650
URL:https://eventfrog.de/de/p/partys/charts-open-format/schlagerparty-auf-dem-schiff-7450888197612042169.html
END:VEVENT
END:VCALENDAR