BEGIN:VCALENDAR
VERSION:2.0
PRODID:EVENTFROG//EVENT//ICAL
BEGIN:VEVENT
UID:20260424T092321Z-7450888287625939536@eventfrog.de
DTSTAMP:20260424T092321Z
DTSTART:20260521T170000Z
DTEND:20260521T200000Z
SUMMARY:Kino im Dorf: La vie en rose
DESCRIPTION:Der Film zeigt Edith Piafs bewegtes Leben voller Leidenschaft und Musik, brillant gespielt von Marion Cotillard.\n\nhttps://eventfrog.de/de/p/diverses/kino-im-dorf-la-vie-en-rose-7450888287625939536.html
LOCATION:Zentrum Lee
GEO:47.492813;8.189854
URL:https://eventfrog.de/de/p/diverses/kino-im-dorf-la-vie-en-rose-7450888287625939536.html
END:VEVENT
END:VCALENDAR