BEGIN:VCALENDAR
VERSION:2.0
PRODID:EVENTFROG//EVENT//ICAL
BEGIN:VEVENT
UID:20260422T205507Z-7450896283819089533@eventfrog.de
DTSTAMP:20260422T205507Z
DTSTART:20260513T200000Z
DTEND:20260514T030000Z
SUMMARY:ANTROPÉ BERLIN
DESCRIPTION:House-Music-Event mitten in Berlin unter dem Fernsehturm.\n\nhttps://eventfrog.de/de/p/partys/house-techno/antrope-berlin-7450896283819089533.html
LOCATION:Mio Berlin
GEO:52.519920;13.395620
URL:https://eventfrog.de/de/p/partys/house-techno/antrope-berlin-7450896283819089533.html
END:VEVENT
END:VCALENDAR