BEGIN:VCALENDAR
VERSION:2.0
PRODID:EVENTFROG//EVENT//ICAL
BEGIN:VEVENT
UID:20260419T201737Z-7450900227517611420@eventfrog.de
DTSTAMP:20260419T201737Z
DTSTART:20260523T140000Z
DTEND:20260523T200000Z
SUMMARY:Queer and Friends Daydance 23.5.26
DESCRIPTION: DEINE AUSZEIT: FARBE, GLITZER & ELEKTRONISCHE BEATS \nWir folgen Deinem Wunsch! Am Samstag, 23. Mai 2026, laden wir Dich ab 16:00 Uhr zu unserem Daydance in den Club Bellevue Zürich ein! \nKomm vor\n\nhttps://eventfrog.de/de/p/partys/house-techno/queer-and-friends-daydance-23-5-26-7450900227517611420.html
LOCATION:Club Bellevue
GEO:47.367504;8.546003
URL:https://eventfrog.de/de/p/partys/house-techno/queer-and-friends-daydance-23-5-26-7450900227517611420.html
END:VEVENT
END:VCALENDAR