BEGIN:VCALENDAR
VERSION:2.0
PRODID:EVENTFROG//EVENT//ICAL
BEGIN:VEVENT
UID:20260425T030739Z-7450906081344150916@eventfrog.de
DTSTAMP:20260425T030739Z
DTSTART:20260618T153000Z
DTEND:20260618T170000Z
SUMMARY:Fachmaturitätsfeier 2026
DESCRIPTION:Donnerstag, 18. Juni 2026\n17.30 Uhr - Hörsaal Y04-G-30\n\nhttps://eventfrog.de/de/p/diverses/fachmaturitaetsfeier-2026-7450906081344150916.html
LOCATION:Kantonsschule Zürich Nord @ Irchel
GEO:47.396949;8.548753
URL:https://eventfrog.de/de/p/diverses/fachmaturitaetsfeier-2026-7450906081344150916.html
END:VEVENT
END:VCALENDAR