BEGIN:VCALENDAR
VERSION:2.0
PRODID:EVENTFROG//EVENT//ICAL
BEGIN:VEVENT
UID:20260424T123405Z-7450936612983205891@eventfrog.de
DTSTAMP:20260424T123405Z
DTSTART:20260510T130000Z
DTEND:20260510T163000Z
SUMMARY:FRESHH live - Mutttertags Open Air - Premium Disco Pop & Roc
DESCRIPTION:FRESHH - Premium Disco, Pop & Rock\n\nhttps://eventfrog.de/de/p/konzerte/pop-rock/freshh-live-mutttertags-open-air-premium-disco-pop-roc-7450936612983205891.html
LOCATION:Clubhaus 06
GEO:52.353851;9.772417
URL:https://eventfrog.de/de/p/konzerte/pop-rock/freshh-live-mutttertags-open-air-premium-disco-pop-roc-7450936612983205891.html
END:VEVENT
END:VCALENDAR