BEGIN:VCALENDAR
VERSION:2.0
PRODID:EVENTFROG//EVENT//ICAL
BEGIN:VEVENT
UID:20260420T080139Z-7450965150499106916@eventfrog.de
DTSTAMP:20260420T080139Z
DTSTART:20260426T120000Z
DTEND:20260426T130000Z
SUMMARY:Sprechstunde mit Tatiana Echeverri Fernandez
DESCRIPTION:Tatiana Echeverri Fernandez bietet im Humboldt Forum eine kostenlose Sprechstunde zu systemischen Familienaufstellungen an.\n\nhttps://eventfrog.de/de/p/fuehrungen-vortraege/vortrag/sprechstunde-mit-tatiana-echeverri-fernandez-7450965150499106916.html
LOCATION:Humboldt Forum
GEO:52.517275;13.401640
URL:https://eventfrog.de/de/p/fuehrungen-vortraege/vortrag/sprechstunde-mit-tatiana-echeverri-fernandez-7450965150499106916.html
END:VEVENT
END:VCALENDAR