BEGIN:VCALENDAR
VERSION:2.0
PRODID:EVENTFROG//EVENT//ICAL
BEGIN:VEVENT
UID:20260424T075550Z-7450982073215526567@eventfrog.de
DTSTAMP:20260424T075550Z
DTSTART:20260621T150000Z
DTEND:20260621T163000Z
SUMMARY:A Million Dreams - Ein Musical der SINGSCHULE OBERWALLIS
DESCRIPTION:Die Singschule Oberwallis präsentiert mit allen Chorstufen das Musical «A Million Dreams» über Träume, Hoffnung und Liebe.\n\nhttps://eventfrog.de/de/p/konzerte/chor/a-million-dreams-ein-musical-der-singschule-oberwallis-7450982073215526567.html
LOCATION:Theatersaal Kollegium
GEO:46.314661;7.993449
URL:https://eventfrog.de/de/p/konzerte/chor/a-million-dreams-ein-musical-der-singschule-oberwallis-7450982073215526567.html
END:VEVENT
END:VCALENDAR