BEGIN:VCALENDAR
VERSION:2.0
PRODID:EVENTFROG//EVENT//ICAL
BEGIN:VEVENT
UID:20260421T203853Z-7450988974808546050@eventfrog.de
DTSTAMP:20260421T203853Z
DTSTART:20260531T130000Z
DTEND:20260531T150000Z
SUMMARY:Matcha & more
DESCRIPTION:Move your body. Rest your soul. Sip your matcha. \nFlow through Yoga, bath in frequencies & enjoy iced matcha in the sun.\n\n\nhttps://eventfrog.de/de/p/gesundheit-spiritualitaet/gesundheit-wohlbefinden/matcha-more-7450988974808546050.html
LOCATION:Lichtloft Stuttgart
GEO:48.760553;9.161855
URL:https://eventfrog.de/de/p/gesundheit-spiritualitaet/gesundheit-wohlbefinden/matcha-more-7450988974808546050.html
END:VEVENT
END:VCALENDAR