BEGIN:VCALENDAR
VERSION:2.0
PRODID:EVENTFROG//EVENT//ICAL
BEGIN:VEVENT
UID:20260420T142257Z-7450997399797929489@eventfrog.de
DTSTAMP:20260420T142257Z
DTSTART:20260510T080000Z
DTEND:20260510T120000Z
SUMMARY:DIVING DEEP___MEDICINE MUSIC & WOMB KAMBO ___Mini Retreat
DESCRIPTION:Am 10. Mai 2026 führt Saskia Baumgart mit Womb Kambo und heilender Musik im KlangZeitRaum Berlin zu einer tiefen inneren Reise.\n\nhttps://eventfrog.de/de/p/gesundheit-spiritualitaet/gesundheit-wohlbefinden/diving-deep-medicine-music-womb-kambo-mini-retreat-7450997399797929489.html
LOCATION:KlangZeitRaum
GEO:52.518857;13.455594
URL:https://eventfrog.de/de/p/gesundheit-spiritualitaet/gesundheit-wohlbefinden/diving-deep-medicine-music-womb-kambo-mini-retreat-7450997399797929489.html
END:VEVENT
END:VCALENDAR