BEGIN:VCALENDAR
VERSION:2.0
PRODID:EVENTFROG//EVENT//ICAL
BEGIN:VEVENT
UID:20260425T193413Z-7451027590188398968@eventfrog.de
DTSTAMP:20260425T193413Z
DTSTART:20260510T170000Z
DTEND:20260510T200000Z
SUMMARY:Mary Halvorson: Canis Major (NYC)
DESCRIPTION:Wenn Avantgarde unaufdringlich klingt: Mary Halvorson.\n\nhttps://eventfrog.de/de/p/konzerte/mary-halvorson-canis-major-nyc-7451027590188398968.html
LOCATION:Perronnord
GEO:47.423844;9.368657
URL:https://eventfrog.de/de/p/konzerte/mary-halvorson-canis-major-nyc-7451027590188398968.html
END:VEVENT
END:VCALENDAR