BEGIN:VCALENDAR
VERSION:2.0
PRODID:EVENTFROG//EVENT//ICAL
BEGIN:VEVENT
UID:20260419T224954Z-7451029200381715248@eventfrog.de
DTSTAMP:20260419T224954Z
DTSTART:20260507T183000Z
DTEND:20260507T201500Z
SUMMARY:Gurtner & Schenk (Herrgöttli Panaschiert): «Marathon»
DESCRIPTION:Marco Gurtner und Mathias Schenk, schweizweit bekannt durch ihren Podcast «Herrgöttli Panaschiert», bringen ihr erstes abendfüllendes Programm auf auf die Bühne: «Marathon»\n\nhttps://eventfrog.de/de/p/theater-buehne/comedy-kabarett/gurtner-schenk-herrgoettli-panaschiert-marathon-7451029200381715248.html
LOCATION:Bären Buchsi
GEO:47.021500;7.450800
URL:https://eventfrog.de/de/p/theater-buehne/comedy-kabarett/gurtner-schenk-herrgoettli-panaschiert-marathon-7451029200381715248.html
END:VEVENT
END:VCALENDAR