BEGIN:VCALENDAR
VERSION:2.0
PRODID:EVENTFROG//EVENT//ICAL
BEGIN:VEVENT
UID:20260425T193234Z-7451029338265273634@eventfrog.de
DTSTAMP:20260425T193234Z
DTSTART:20260524T144500Z
SUMMARY:Yasin + LateNightBand
DESCRIPTION:Yasin + LateNightBand\n\nhttps://eventfrog.de/de/p/konzerte/yasin-latenightband-7451029338265273634.html
LOCATION:Konstanz Konzertmuschel
GEO:47.662669;9.179241
URL:https://eventfrog.de/de/p/konzerte/yasin-latenightband-7451029338265273634.html
END:VEVENT
END:VCALENDAR