BEGIN:VCALENDAR
VERSION:2.0
PRODID:EVENTFROG//EVENT//ICAL
BEGIN:VEVENT
UID:20260424T123706Z-7451031668868045852@eventfrog.de
DTSTAMP:20260424T123706Z
DTSTART:20260608T071500Z
DTEND:20260608T091500Z
SUMMARY:ElternCafé
DESCRIPTION:Spielen, austauschen, gemütliches Zusammensein\n\nhttps://eventfrog.de/de/p/diverses/elterncafe-7451031668868045852.html
LOCATION:tiRumpel
GEO:47.420944;9.356495
URL:https://eventfrog.de/de/p/diverses/elterncafe-7451031668868045852.html
END:VEVENT
END:VCALENDAR