BEGIN:VCALENDAR
VERSION:2.0
PRODID:EVENTFROG//EVENT//ICAL
BEGIN:VEVENT
UID:20260421T095424Z-7451170111312942978@eventfrog.de
DTSTAMP:20260421T095424Z
DTSTART:20260703T060000Z
DTEND:20260703T160000Z
SUMMARY:Geführte Tageswanderungen
DESCRIPTION:Erfahrene Guides führen auf abwechslungsreichen Touren durch die faszinierende Natur der Schweizer Bergwelt.\n\nhttps://eventfrog.de/de/p/freizeit-ausfluege/wanderung/gefuehrte-tageswanderungen-7451170111312942978.html
LOCATION:Flumserberg (Tannenboden)
GEO:47.090210;9.295070
URL:https://eventfrog.de/de/p/freizeit-ausfluege/wanderung/gefuehrte-tageswanderungen-7451170111312942978.html
END:VEVENT
END:VCALENDAR