BEGIN:VCALENDAR
VERSION:2.0
PRODID:EVENTFROG//EVENT//ICAL
BEGIN:VEVENT
UID:20260424T083802Z-7451195426353512327@eventfrog.de
DTSTAMP:20260424T083802Z
DTSTART:20260522T170000Z
DTEND:20260522T210000Z
SUMMARY:Get Connected FS26
DESCRIPTION:The biannual Get Connected event brings together LGBTQIA+ students and seasoned professionals and fosters the intergenerational exchange of experience.\n\nhttps://eventfrog.de/de/p/fuehrungen-vortraege/podium/get-connected-fs26-7451195426353512327.html
LOCATION:Landesmuseum Zürich
GEO:47.379606;8.539352
URL:https://eventfrog.de/de/p/fuehrungen-vortraege/podium/get-connected-fs26-7451195426353512327.html
END:VEVENT
END:VCALENDAR