BEGIN:VCALENDAR
VERSION:2.0
PRODID:EVENTFROG//EVENT//ICAL
BEGIN:VEVENT
UID:20260421T230311Z-7451212322838731542@eventfrog.de
DTSTAMP:20260421T230311Z
DTSTART:20260529T180000Z
DTEND:20260529T190000Z
SUMMARY:Theaterstück - Laute Schatten
DESCRIPTION:Ein Horrorstück von Miriam Schöpf über das Akzeptieren der eigenen dunklen Seiten begleitet von atmosphärischem Gesang und Schattenspiel.\n\nhttps://eventfrog.de/de/p/theater-buehne/theater/theaterstueck-laute-schatten-7451212322838731542.html
LOCATION:Theater Moller Haus
GEO:49.867875;8.650525
URL:https://eventfrog.de/de/p/theater-buehne/theater/theaterstueck-laute-schatten-7451212322838731542.html
END:VEVENT
END:VCALENDAR