BEGIN:VCALENDAR
VERSION:2.0
PRODID:EVENTFROG//EVENT//ICAL
BEGIN:VEVENT
UID:20260421T144454Z-7451215259866561468@eventfrog.de
DTSTAMP:20260421T144454Z
DTSTART:20260516T120000Z
DTEND:20260517T160000Z
SUMMARY:22. Bauern- und Erlebnismarkt Rüggeberg
DESCRIPTION:Am 16./17. Mai 2026 verwandelt der Bauern- und Erlebnismarkt Rüggeberg Kirchplatz mit regionalen Spezialitäten, Musik und Kinderprogramm.\n\nhttps://eventfrog.de/de/p/maerkte/sonstige-maerkte/22-bauern-und-erlebnismarkt-rueggeberg-7451215259866561468.html
LOCATION:Kirchplatz der Evangelischen Kirche Rüggeberg
GEO:51.267143;7.383816
URL:https://eventfrog.de/de/p/maerkte/sonstige-maerkte/22-bauern-und-erlebnismarkt-rueggeberg-7451215259866561468.html
END:VEVENT
END:VCALENDAR