BEGIN:VCALENDAR
VERSION:2.0
PRODID:EVENTFROG//EVENT//ICAL
BEGIN:VEVENT
UID:20260420T054235Z-7451231874465142588@eventfrog.de
DTSTAMP:20260420T054235Z
DTSTART:20260505T200000Z
DTEND:20260506T010000Z
SUMMARY:KASET
DESCRIPTION:Die beliebtesten türkischen Popsongs und mitreißende Live-DJ-Performances erwarten euch auf einer unvergesslichen Party! \n\nhttps://eventfrog.de/de/p/partys/pop-rock/kaset-7451231874465142588.html
LOCATION:Nox
GEO:50.776075;6.090940
URL:https://eventfrog.de/de/p/partys/pop-rock/kaset-7451231874465142588.html
END:VEVENT
END:VCALENDAR