BEGIN:VCALENDAR
VERSION:2.0
PRODID:EVENTFROG//EVENT//ICAL
BEGIN:VEVENT
UID:20260422T200657Z-7451271714372103187@eventfrog.de
DTSTAMP:20260422T200657Z
DTSTART:20260523T133000Z
DTEND:20260523T153000Z
SUMMARY:Trommelkreis in Eberstadt monatlich - Samstag
DESCRIPTION:Trommeln für Erwachsene in DA-Eberstadt monatlich im priv. Trommelkreis - Djembe-Leihtrommel möglich!\n\nhttps://eventfrog.de/de/p/kurse-seminare/musik-tanz/trommelkreis-in-eberstadt-monatlich-samstag-7451271714372103187.html
LOCATION:monatlicher priv. Trommelkreis/ kein Ticket
URL:https://eventfrog.de/de/p/kurse-seminare/musik-tanz/trommelkreis-in-eberstadt-monatlich-samstag-7451271714372103187.html
END:VEVENT
END:VCALENDAR