BEGIN:VCALENDAR
VERSION:2.0
PRODID:EVENTFROG//EVENT//ICAL
BEGIN:VEVENT
UID:20260421T211910Z-7451282969098978505@eventfrog.de
DTSTAMP:20260421T211910Z
DTSTART:20260530T183000Z
SUMMARY:The Prom - das Musical
DESCRIPTION:Das Musical «The Prom» erzählt mit Herz und Humor, wie Broadway-Stars gegen Ausgrenzung und konservative Moralvorstellungen kämpfen.\n\nhttps://eventfrog.de/de/p/musicals-shows/musical/the-prom-das-musical-7451282969098978505.html
LOCATION:Münsterländische Freilichtbühne  Greven-Reckenfeld e.V.
GEO:52.139434;7.546208
URL:https://eventfrog.de/de/p/musicals-shows/musical/the-prom-das-musical-7451282969098978505.html
END:VEVENT
END:VCALENDAR