BEGIN:VCALENDAR
VERSION:2.0
PRODID:EVENTFROG//EVENT//ICAL
BEGIN:VEVENT
UID:20260422T200656Z-7451293797642702593@eventfrog.de
DTSTAMP:20260422T200656Z
DTSTART:20260516T160000Z
DTEND:20260516T200000Z
SUMMARY:Afterwork Art Night
DESCRIPTION:Geniesse einen entspannten Abend mit Wein, Musik, Snacks und persönlicher Malanleitung ohne Stress.\n\nhttps://eventfrog.de/de/p/kurse-seminare/freizeit-hobby/afterwork-art-night-7451293797642702593.html
LOCATION:Galerie Annette Lehrmann
GEO:49.795309;9.929515
URL:https://eventfrog.de/de/p/kurse-seminare/freizeit-hobby/afterwork-art-night-7451293797642702593.html
END:VEVENT
END:VCALENDAR