BEGIN:VCALENDAR
VERSION:2.0
PRODID:EVENTFROG//EVENT//ICAL
BEGIN:VEVENT
UID:20260424T065636Z-7451300668235581559@eventfrog.de
DTSTAMP:20260424T065636Z
DTSTART:20260502T090000Z
DTEND:20260502T150000Z
SUMMARY:Zürichs grösster Brettspiel-Flohmarkt
DESCRIPTION:Zürichs grösster Mitbring-Brettspiel-Flohmarkt von DuBischDra bietet eine riesen Auswahl an Brett-, Karten-, Gesellschafts- & Rollenspielen. Man trifft sich am 02. Mai 2026 im Uto Kino, Kalkbreite.\n\nhttps://eventfrog.de/de/p/maerkte/flohmarkt/zuerichs-groesster-brettspiel-flohmarkt-7451300668235581559.html
LOCATION:DuBischDra @ Uto Kino
GEO:47.374100;8.521320
URL:https://eventfrog.de/de/p/maerkte/flohmarkt/zuerichs-groesster-brettspiel-flohmarkt-7451300668235581559.html
END:VEVENT
END:VCALENDAR