BEGIN:VCALENDAR
VERSION:2.0
PRODID:EVENTFROG//EVENT//ICAL
BEGIN:VEVENT
UID:20260422T114242Z-7451310128165301185@eventfrog.de
DTSTAMP:20260422T114242Z
DTSTART:20260517T070000Z
DTEND:20260517T140000Z
SUMMARY:Voyage au cœur des 5 blessures de l’Âme
DESCRIPTION:Atelier de 5 jours à Neuchâtel pour explorer et apaiser les blessures de l'âme avec 4 guides bienveillants.\n\nhttps://eventfrog.de/fr/p/sante-spiritualite/sante-bien-etre/voyage-au-cur-des-5-blessures-de-lame-7451310128165301185.html
LOCATION:Chem. des Grands-Pins 6
GEO:46.997717;6.934386
URL:https://eventfrog.de/fr/p/sante-spiritualite/sante-bien-etre/voyage-au-cur-des-5-blessures-de-lame-7451310128165301185.html
END:VEVENT
END:VCALENDAR