BEGIN:VCALENDAR
VERSION:2.0
PRODID:EVENTFROG//EVENT//ICAL
BEGIN:VEVENT
UID:20260421T182101Z-7451323078502514979@eventfrog.de
DTSTAMP:20260421T182101Z
DTSTART:20260426T080000Z
DTEND:20260426T150000Z
SUMMARY:Solingen Paladins Flags- Heimturnier ins der RL NRW
DESCRIPTION:Am 26.04.2026 bestreiten die Solingen Paladins Flags ihr zweites Ligaturnier der Saison in der Regionalliga NRW.\n\nhttps://eventfrog.de/de/p/sport-fitness/american-football/solingen-paladins-flags-heimturnier-ins-der-rl-nrw-7451323078502514979.html
LOCATION:Herbert - Schade Sportanlage
GEO:51.161654;7.118969
URL:https://eventfrog.de/de/p/sport-fitness/american-football/solingen-paladins-flags-heimturnier-ins-der-rl-nrw-7451323078502514979.html
END:VEVENT
END:VCALENDAR