BEGIN:VCALENDAR
VERSION:2.0
PRODID:EVENTFROG//EVENT//ICAL
BEGIN:VEVENT
UID:20260420T051344Z-7451335178977339144@eventfrog.de
DTSTAMP:20260420T051344Z
DTSTART:20260925T181500Z
DTEND:20260925T200000Z
SUMMARY:Lisa Christ - IDEAL
DESCRIPTION:Lisa Christ seziert im Solo gesellschaftliche Ideale zu Selbstoptimierung und lädt mit Witz zum Nachdenken ein.\n\nhttps://eventfrog.de/de/p/theater-buehne/comedy-kabarett/lisa-christ-ideal-7451335178977339144.html
LOCATION:Kleintheater Somehuus
GEO:47.172200;8.109910
URL:https://eventfrog.de/de/p/theater-buehne/comedy-kabarett/lisa-christ-ideal-7451335178977339144.html
END:VEVENT
END:VCALENDAR