BEGIN:VCALENDAR
VERSION:2.0
PRODID:EVENTFROG//EVENT//ICAL
BEGIN:VEVENT
UID:20260419T173154Z-7451384327303100851@eventfrog.de
DTSTAMP:20260419T173154Z
DTSTART:20260516T130000Z
SUMMARY:Die Morgenländer. Jüdische Forscher suchen nach dem Eigenen
DESCRIPTION:Die Morgenländer. Jüdische Forscher suchen nach dem Eigenen im Fremden\n\nhttps://eventfrog.de/de/p/wissenschaft-und-technik/die-morgenlaender-juedische-forscher-suchen-nach-dem-eigenen-7451384327303100851.html
LOCATION:Jüdisches Museum
GEO:47.364721;9.688902
URL:https://eventfrog.de/de/p/wissenschaft-und-technik/die-morgenlaender-juedische-forscher-suchen-nach-dem-eigenen-7451384327303100851.html
END:VEVENT
END:VCALENDAR