BEGIN:VCALENDAR
VERSION:2.0
PRODID:EVENTFROG//EVENT//ICAL
BEGIN:VEVENT
UID:20260419T173041Z-7451384328653666765@eventfrog.de
DTSTAMP:20260419T173041Z
DTSTART:20260523T080000Z
SUMMARY:Zwischen Gassen und Geschichten
DESCRIPTION:Spaziergang in die Vergangenheit des Jüdischen Viertels.\n\nhttps://eventfrog.de/de/p/wissenschaft-und-technik/zwischen-gassen-und-geschichten-7451384328653666765.html
LOCATION:Jüdisches Museum
GEO:47.364721;9.688902
URL:https://eventfrog.de/de/p/wissenschaft-und-technik/zwischen-gassen-und-geschichten-7451384328653666765.html
END:VEVENT
END:VCALENDAR