BEGIN:VCALENDAR
VERSION:2.0
PRODID:EVENTFROG//EVENT//ICAL
BEGIN:VEVENT
UID:20260420T001431Z-7451385362163719468@eventfrog.de
DTSTAMP:20260420T001431Z
DTSTART:20260509T150000Z
SUMMARY:Tanzfest Winterthur: Society
DESCRIPTION:Tanzfest Winterthur: Society\n\nhttps://eventfrog.de/de/p/theater-buehne/tanzfest-winterthur-society-7451385362163719468.html
LOCATION:Theater Winterthur
GEO:47.502060;8.727860
URL:https://eventfrog.de/de/p/theater-buehne/tanzfest-winterthur-society-7451385362163719468.html
END:VEVENT
END:VCALENDAR