BEGIN:VCALENDAR
VERSION:2.0
PRODID:EVENTFROG//EVENT//ICAL
BEGIN:VEVENT
UID:20260424T071531Z-7451389869098536386@eventfrog.de
DTSTAMP:20260424T071531Z
DTSTART:20260607T080000Z
SUMMARY:Srf Persönlich
DESCRIPTION:Srf Persönlich\n\nhttps://eventfrog.de/de/p/wissenschaft-und-technik/srf-persoenlich-7451389869098536386.html
LOCATION:Casinotheater
GEO:47.499716;8.726641
URL:https://eventfrog.de/de/p/wissenschaft-und-technik/srf-persoenlich-7451389869098536386.html
END:VEVENT
END:VCALENDAR