BEGIN:VCALENDAR
VERSION:2.0
PRODID:EVENTFROG//EVENT//ICAL
BEGIN:VEVENT
UID:20260422T090751Z-7451389986337751234@eventfrog.de
DTSTAMP:20260422T090751Z
DTSTART:20260502T200000Z
SUMMARY:Alle Farben
DESCRIPTION:House, Tech House und melodische Sounds.\n\nhttps://eventfrog.de/de/p/partys/alle-farben-7451389986337751234.html
LOCATION:Kulturzentrum Presswerk
GEO:47.510121;9.431156
URL:https://eventfrog.de/de/p/partys/alle-farben-7451389986337751234.html
END:VEVENT
END:VCALENDAR