BEGIN:VCALENDAR
VERSION:2.0
PRODID:EVENTFROG//EVENT//ICAL
BEGIN:VEVENT
UID:20260420T043000Z-7451390634412246968@eventfrog.de
DTSTAMP:20260420T043000Z
DTSTART:20260508T180000Z
SUMMARY:Richard Köchli Trio
DESCRIPTION:Holy & Transcendental Blues.\n\nhttps://eventfrog.de/de/p/kunst-ausstellungen/richard-koechli-trio-7451390634412246968.html
LOCATION:Bistro Panem
GEO:47.567778;9.382500
URL:https://eventfrog.de/de/p/kunst-ausstellungen/richard-koechli-trio-7451390634412246968.html
END:VEVENT
END:VCALENDAR