BEGIN:VCALENDAR
VERSION:2.0
PRODID:EVENTFROG//EVENT//ICAL
BEGIN:VEVENT
UID:20260420T055401Z-7451390762997046304@eventfrog.de
DTSTAMP:20260420T055401Z
DTSTART:20260503T170000Z
SUMMARY:Fragments
DESCRIPTION:Tanztheater über Macht und Wut in patriarchalen Strukturen.\n\nhttps://eventfrog.de/de/p/theater-buehne/fragments-7451390762997046304.html
LOCATION:K9 Kulturzentrum
GEO:47.659907;9.171496
URL:https://eventfrog.de/de/p/theater-buehne/fragments-7451390762997046304.html
END:VEVENT
END:VCALENDAR