BEGIN:VCALENDAR
VERSION:2.0
PRODID:EVENTFROG//EVENT//ICAL
BEGIN:VEVENT
UID:20260419T173057Z-7451392938200840731@eventfrog.de
DTSTAMP:20260419T173057Z
DTSTART:20260524T113000Z
SUMMARY:Eine Reise durch Zeit und Erinnerung
DESCRIPTION:Rundgang im Rahmen der Emsiana.\n\nhttps://eventfrog.de/de/p/wissenschaft-und-technik/eine-reise-durch-zeit-und-erinnerung-7451392938200840731.html
LOCATION:Jüdischer Friedhof
GEO:47.346977;9.672768
URL:https://eventfrog.de/de/p/wissenschaft-und-technik/eine-reise-durch-zeit-und-erinnerung-7451392938200840731.html
END:VEVENT
END:VCALENDAR