BEGIN:VCALENDAR
VERSION:2.0
PRODID:EVENTFROG//EVENT//ICAL
BEGIN:VEVENT
UID:20260425T211538Z-7451392938993564195@eventfrog.de
DTSTAMP:20260425T211538Z
DTSTART:20260509T160000Z
SUMMARY:19. Konstanzer Jazzgipfel
DESCRIPTION:Mit den Bands von 5 Konstanzer Schulen.\n\nhttps://eventfrog.de/de/p/konzerte/19-konstanzer-jazzgipfel-7451392938993564195.html
LOCATION:BODENSEEFORUM KONSTANZ
GEO:47.671433;9.166143
URL:https://eventfrog.de/de/p/konzerte/19-konstanzer-jazzgipfel-7451392938993564195.html
END:VEVENT
END:VCALENDAR