BEGIN:VCALENDAR
VERSION:2.0
PRODID:EVENTFROG//EVENT//ICAL
BEGIN:VEVENT
UID:20260419T165307Z-7451392943762487999@eventfrog.de
DTSTAMP:20260419T165307Z
DTSTART:20260509T170000Z
DTEND:20260509T183000Z
SUMMARY:heimwē - wie das Heimweh Eingang in die Barockmusik fand
DESCRIPTION:heimwē - wie das Heimweh Eingang in die Barockmusik fand\n\nhttps://eventfrog.de/de/p/konzerte/heimw-wie-das-heimweh-eingang-in-die-barockmusik-fand-7451392943762487999.html
LOCATION:Evang.-ref. Kirche Ennenda
GEO:47.033937;9.078566
URL:https://eventfrog.de/de/p/konzerte/heimw-wie-das-heimweh-eingang-in-die-barockmusik-fand-7451392943762487999.html
END:VEVENT
END:VCALENDAR