BEGIN:VCALENDAR
VERSION:2.0
PRODID:EVENTFROG//EVENT//ICAL
BEGIN:VEVENT
UID:20260420T051342Z-7451392945368906488@eventfrog.de
DTSTAMP:20260420T051342Z
DTSTART:20260905T143000Z
DTEND:20260905T153000Z
SUMMARY:Rappi-Jona klingt
DESCRIPTION:Rappi-Jona klingt\n\nhttps://eventfrog.de/de/p/konzerte/rappi-jona-klingt-7451392945368906488.html
LOCATION:Curtiplatz
GEO:47.226400;8.813780
URL:https://eventfrog.de/de/p/konzerte/rappi-jona-klingt-7451392945368906488.html
END:VEVENT
END:VCALENDAR