BEGIN:VCALENDAR
VERSION:2.0
PRODID:EVENTFROG//EVENT//ICAL
BEGIN:VEVENT
UID:20260419T224933Z-7451446050877879540@eventfrog.de
DTSTAMP:20260419T224933Z
DTSTART:20260425T180000Z
DTEND:20260425T200000Z
SUMMARY:Bear Pit Comedy English Stand-up Showcase
DESCRIPTION:Comedians from all over Switzerland are coming to Bern to make you laugh!\n\nhttps://eventfrog.de/en/p/theatre-stage/comedy-cabaret/bear-pit-comedy-english-stand-up-showcase-7451446050877879540.html
LOCATION:Les Amis
GEO:46.948399;7.448710
URL:https://eventfrog.de/en/p/theatre-stage/comedy-cabaret/bear-pit-comedy-english-stand-up-showcase-7451446050877879540.html
END:VEVENT
END:VCALENDAR