BEGIN:VCALENDAR
VERSION:2.0
PRODID:EVENTFROG//EVENT//ICAL
BEGIN:VEVENT
UID:20260421T094541Z-7451506883486055593@eventfrog.de
DTSTAMP:20260421T094541Z
DTSTART:20260430T163000Z
DTEND:20260430T193000Z
SUMMARY:Board Games at The Alehouse
DESCRIPTION:Join the Board Games group at The Alehouse every two weeks on Thursdays. Various games available or bring your own. See MeetUp and WhatsApp for updates.\n\nhttps://eventfrog.de/en/p/leisure-excursions/groups-games/board-games-at-the-alehouse-7451506883486055593.html
LOCATION:The Alehouse
GEO:47.379123;8.547915
URL:https://eventfrog.de/en/p/leisure-excursions/groups-games/board-games-at-the-alehouse-7451506883486055593.html
END:VEVENT
END:VCALENDAR