BEGIN:VCALENDAR
VERSION:2.0
PRODID:EVENTFROG//EVENT//ICAL
BEGIN:VEVENT
UID:20260420T120307Z-7451546506123845595@eventfrog.de
DTSTAMP:20260420T120307Z
DTSTART:20260503T163000Z
SUMMARY:LA CHANCE 2.0 – EIN MUSIKTHEATER - EIN REVIVAL
DESCRIPTION:Der Jugendchor Siggenthal führt «La Chance 2.0» vom 1. bis 3. Mai in der Kirche Kirchdorf auf.\n\nhttps://eventfrog.de/de/p/konzerte/chor/la-chance-2-0-ein-musiktheater-ein-revival-7451546506123845595.html
LOCATION:Kirche Kirchdorf
GEO:47.496964;8.274818
URL:https://eventfrog.de/de/p/konzerte/chor/la-chance-2-0-ein-musiktheater-ein-revival-7451546506123845595.html
END:VEVENT
END:VCALENDAR