BEGIN:VCALENDAR
VERSION:2.0
PRODID:EVENTFROG//EVENT//ICAL
BEGIN:VEVENT
UID:20260421T194739Z-7451552622857738604@eventfrog.de
DTSTAMP:20260421T194739Z
DTSTART:20270227T180000Z
DTEND:20270227T220000Z
SUMMARY:Das perfekte ABBA Dinner Schmelz – Live Show & Musik
DESCRIPTION:Im Frischbiers Schmelz erleben Sie eine interaktive Dinnershow mit ABBA-Hits live und viel Nähe zum Publikum am 27.2.2027.\n\nhttps://eventfrog.de/de/p/musicals-shows/show/das-perfekte-abba-dinner-schmelz-live-show-musik-7451552622857738604.html
LOCATION:Frischbier's Eventlocation & Erlebnisgastronomie
GEO:49.411837;6.853536
URL:https://eventfrog.de/de/p/musicals-shows/show/das-perfekte-abba-dinner-schmelz-live-show-musik-7451552622857738604.html
END:VEVENT
END:VCALENDAR