BEGIN:VCALENDAR
VERSION:2.0
PRODID:EVENTFROG//EVENT//ICAL
BEGIN:VEVENT
UID:20260419T221057Z-7451555710012292868@eventfrog.de
DTSTAMP:20260419T221057Z
DTSTART:20260606T080000Z
DTEND:20260606T100000Z
SUMMARY:Silberschmuck-Workshop mit Mandulan Silberschmuck
DESCRIPTION:Silberschmuck-Workshop\n\nhttps://eventfrog.de/de/p/kunst-ausstellungen/kultur/silberschmuck-workshop-mit-mandulan-silberschmuck-7451555710012292868.html
LOCATION:Art'Café Liebefeld
GEO:46.932875;7.422809
URL:https://eventfrog.de/de/p/kunst-ausstellungen/kultur/silberschmuck-workshop-mit-mandulan-silberschmuck-7451555710012292868.html
END:VEVENT
END:VCALENDAR