BEGIN:VCALENDAR
VERSION:2.0
PRODID:EVENTFROG//EVENT//ICAL
BEGIN:VEVENT
UID:20260419T172919Z-7451591583806288846@eventfrog.de
DTSTAMP:20260419T172919Z
DTSTART:20260718T120000Z
DTEND:20260718T150000Z
SUMMARY:Sonnenbeobachtung – Jura-Sternwarte Grenchen
DESCRIPTION:Die Jura-Sternwarte Grenchen lädt zu freien Nachmittagsbesuchen ein, um die Sonne durch Sonnenteleskope zu beobachten.\n\nhttps://eventfrog.de/de/p/wissenschaft-und-technik/sonnenbeobachtung-jura-sternwarte-grenchen-7451591583806288846.html
LOCATION:Jurasternwarte Grenchen
GEO:47.221411;7.380610
URL:https://eventfrog.de/de/p/wissenschaft-und-technik/sonnenbeobachtung-jura-sternwarte-grenchen-7451591583806288846.html
END:VEVENT
END:VCALENDAR