BEGIN:VCALENDAR
VERSION:2.0
PRODID:EVENTFROG//EVENT//ICAL
BEGIN:VEVENT
UID:20260421T203853Z-7451595887858470069@eventfrog.de
DTSTAMP:20260421T203853Z
DTSTART:20270130T180000Z
DTEND:20270130T220000Z
SUMMARY:Das perfekte Schlager Dinner Tauberbischofsheim – Live Show
DESCRIPTION:Maite Kelly und Fiesta Mexicana begeistern am 30. Januar mit einer interaktiven Schlager-Dinnershow im Hotel DAS BISCHOF.\n\nhttps://eventfrog.de/de/p/konzerte/schlager-volksmusik/das-perfekte-schlager-dinner-tauberbischofsheim-live-show-7451595887858470069.html
LOCATION:Hotel DAS BISCHOF Tauberbischofsheim GmbH
GEO:49.618388;9.653000
URL:https://eventfrog.de/de/p/konzerte/schlager-volksmusik/das-perfekte-schlager-dinner-tauberbischofsheim-live-show-7451595887858470069.html
END:VEVENT
END:VCALENDAR