BEGIN:VCALENDAR
VERSION:2.0
PRODID:EVENTFROG//EVENT//ICAL
BEGIN:VEVENT
UID:20260421T203815Z-7451601152183900699@eventfrog.de
DTSTAMP:20260421T203815Z
DTSTART:20271112T180000Z
DTEND:20271112T220000Z
SUMMARY:Das perfekte Schlager Dinner Naumburg – Live Show & Musik
DESCRIPTION:Am 12.11. spielt Fiesta Mexicana in Naumburg live Schlager, Maite Kelly tritt auf und das Publikum singt bei der Dinnershow mit.\n\nhttps://eventfrog.de/de/p/konzerte/schlager-volksmusik/das-perfekte-schlager-dinner-naumburg-live-show-musik-7451601152183900699.html
LOCATION:Hallescher Anger 1
GEO:51.161527;11.828030
URL:https://eventfrog.de/de/p/konzerte/schlager-volksmusik/das-perfekte-schlager-dinner-naumburg-live-show-musik-7451601152183900699.html
END:VEVENT
END:VCALENDAR