BEGIN:VCALENDAR
VERSION:2.0
PRODID:EVENTFROG//EVENT//ICAL
BEGIN:VEVENT
UID:20260419T182233Z-7451627576181705231@eventfrog.de
DTSTAMP:20260419T182233Z
DTSTART:20260523T173000Z
DTEND:20260523T203000Z
SUMMARY:Parfüm Workshop Date Night
DESCRIPTION:Bei einem Event mischen Paare gemeinsam ein einzigartiges 30ml-Parfüm für den Partner und geniessen Apéro sowie Duft-Infos.\n\nhttps://eventfrog.de/de/p/dating/sonstige-veranstaltungen/parfuem-workshop-date-night-7451627576181705231.html
LOCATION:Eigenesparfum
GEO:47.468646;8.320719
URL:https://eventfrog.de/de/p/dating/sonstige-veranstaltungen/parfuem-workshop-date-night-7451627576181705231.html
END:VEVENT
END:VCALENDAR