BEGIN:VCALENDAR
VERSION:2.0
PRODID:EVENTFROG//EVENT//ICAL
BEGIN:VEVENT
UID:20260424T031200Z-7451628997916557149@eventfrog.de
DTSTAMP:20260424T031200Z
DTSTART:20260530T170000Z
SUMMARY:Balalaika Nueva - Train de Plaisir
DESCRIPTION:Das Duo präsentiert stilistisch vielfältige Weltmusik und Klassik, begleitet von charmanten Anekdoten.\n\nhttps://eventfrog.de/de/p/konzerte/world-ethno/balalaika-nueva-train-de-plaisir-7451628997916557149.html
LOCATION:Balagan
GEO:53.334550;10.398550
URL:https://eventfrog.de/de/p/konzerte/world-ethno/balalaika-nueva-train-de-plaisir-7451628997916557149.html
END:VEVENT
END:VCALENDAR