BEGIN:VCALENDAR
VERSION:2.0
PRODID:EVENTFROG//EVENT//ICAL
BEGIN:VEVENT
UID:20260424T103823Z-7451631155118342427@eventfrog.de
DTSTAMP:20260424T103823Z
DTSTART:20260705T080000Z
DTEND:20260705T100000Z
SUMMARY:Wasser - gefasst und verteilt
DESCRIPTION:Das Ortsmuseum zeigt vielseitig das Thema «Wasserversorgung», geöffnet von 10 bis 12 Uhr mit freiem Eintritt und Kaffeestube.\n\nhttps://eventfrog.de/de/p/kunst-ausstellungen/ausstellung/wasser-gefasst-und-verteilt-7451631155118342427.html
LOCATION:Ortsmuseum Untersiggenthal
GEO:47.499675;8.264038
URL:https://eventfrog.de/de/p/kunst-ausstellungen/ausstellung/wasser-gefasst-und-verteilt-7451631155118342427.html
END:VEVENT
END:VCALENDAR