BEGIN:VCALENDAR
VERSION:2.0
PRODID:EVENTFROG//EVENT//ICAL
BEGIN:VEVENT
UID:20260424T094052Z-7451636902761889386@eventfrog.de
DTSTAMP:20260424T094052Z
DTSTART:20261011T073000Z
DTEND:20261011T084500Z
SUMMARY:Lu Jong am Sonntag - Meditation in Bewegung
DESCRIPTION:Lu Jong verbindet sanfte Bewegungen und Atmung zur Förderung von Wohlbefinden und innerer Balance für alle Altersgruppen.\n\nhttps://eventfrog.de/de/p/gesundheit-spiritualitaet/gesundheit-wohlbefinden/lu-jong-am-sonntag-meditation-in-bewegung-7451636902761889386.html
LOCATION:yoga grenzenlos
GEO:47.654079;9.173242
URL:https://eventfrog.de/de/p/gesundheit-spiritualitaet/gesundheit-wohlbefinden/lu-jong-am-sonntag-meditation-in-bewegung-7451636902761889386.html
END:VEVENT
END:VCALENDAR