BEGIN:VCALENDAR
VERSION:2.0
PRODID:EVENTFROG//EVENT//ICAL
BEGIN:VEVENT
UID:20260421T144455Z-7451644282300068468@eventfrog.de
DTSTAMP:20260421T144455Z
DTSTART:20260503T090000Z
DTEND:20260503T140000Z
SUMMARY:Hobbykünstler Verkaufsausstellung
DESCRIPTION:Verkaufsausstellung mit saisonalen Geschenkartikeln aus regionalen Hobbywerkstätten, dazu Würstchen, kalte Getränke, Kaffee und Kuchen.\n\nhttps://eventfrog.de/de/p/maerkte/sonstige-maerkte/hobbykuenstler-verkaufsausstellung-7451644282300068468.html
LOCATION:Bürgertreff Kilianstädten
GEO:50.199629;8.853869
URL:https://eventfrog.de/de/p/maerkte/sonstige-maerkte/hobbykuenstler-verkaufsausstellung-7451644282300068468.html
END:VEVENT
END:VCALENDAR